BEGIN:VCALENDAR
VERSION:2.0
PRODID:-//Transport for the North - ECPv5.16.4//NONSGML v1.0//EN
CALSCALE:GREGORIAN
METHOD:PUBLISH
X-WR-CALNAME:Transport for the North
X-ORIGINAL-URL:https://www.transportforthenorth.com
X-WR-CALDESC:Events for Transport for the North
BEGIN:VTIMEZONE
TZID:Europe/London
BEGIN:DAYLIGHT
TZOFFSETFROM:+0000
TZOFFSETTO:+0100
TZNAME:BST
DTSTART:20250330T010000
END:DAYLIGHT
BEGIN:STANDARD
TZOFFSETFROM:+0100
TZOFFSETTO:+0000
TZNAME:GMT
DTSTART:20251026T010000
END:STANDARD
END:VTIMEZONE
BEGIN:VEVENT
DTSTART;TZID=Europe/London:20250904T110000
DTEND;TZID=Europe/London:20250904T130000
DTSTAMP:20260421T111122
CREATED:20250328T100309Z
LAST-MODIFIED:20250904T150818Z
UID:63880-1756983600-1756990800@www.transportforthenorth.com
SUMMARY:Scrutiny Committee | 4 September 2025
DESCRIPTION:The Scrutiny Committee consists of Local Authority Members from across the North and has been established to review the decisions of the Transport for the North Board. \nEach of the Constituent Authorities is entitled to appoint one Member and one Substitute Member to the Scrutiny Committee. \nThe Scrutiny committee makes reports or recommendations to the Transport for the North Board with respect to the discharge of its functions\, on matters relating to transport to\, from or within Transport for the North’s area\, and in advance of any decisions that Transport for the North Board proposes to take. \nAll committee meetings are open to the public (including the press) except to the extent that they are excluded whether during the whole or part of the proceedings. \nLocation: New Station Street\, Leeds\, LS1 4JB\nTime: 11.00am\nA copy of the public proceedings will be published after the meeting has taken place. \nIn order to fulfil our obligations on commercial confidentiality and data protection\, the public and press will be excluded for certain agenda items where confidential or ‘exempt’ information is discussed. \nYou will be able to download the agenda and papers for this meeting five working days before the meeting date. \nMeeting Papers \nContact information \nSupport Officer: Gary Rich\nTransport for the North\, Level 6\, Town Hall Extension\, Lloyd Street\, Manchester M2 5DB\nEmail: engagement@transportforthenorth.com
URL:https://www.transportforthenorth.com/calendar/scrutiny-committee-4-sept-2025/
LOCATION:New Station Street LS1 4JB\, New Station Street\, Leeds\, LS1 4JB
CATEGORIES:Scrutiny Committee Meeting
END:VEVENT
END:VCALENDAR