BEGIN:VCALENDAR
VERSION:2.0
PRODID:-//Transport for the North - ECPv5.16.4//NONSGML v1.0//EN
CALSCALE:GREGORIAN
METHOD:PUBLISH
X-WR-CALNAME:Transport for the North
X-ORIGINAL-URL:https://www.transportforthenorth.com
X-WR-CALDESC:Events for Transport for the North
BEGIN:VTIMEZONE
TZID:Europe/London
BEGIN:DAYLIGHT
TZOFFSETFROM:+0000
TZOFFSETTO:+0100
TZNAME:BST
DTSTART:20210328T010000
END:DAYLIGHT
BEGIN:STANDARD
TZOFFSETFROM:+0100
TZOFFSETTO:+0000
TZNAME:GMT
DTSTART:20211031T010000
END:STANDARD
END:VTIMEZONE
BEGIN:VEVENT
DTSTART;TZID=Europe/London:20210915T110000
DTEND;TZID=Europe/London:20210915T110000
DTSTAMP:20260423T162522
CREATED:20210714T093550Z
LAST-MODIFIED:20210915T104122Z
UID:26600-1631703600-1631703600@www.transportforthenorth.com
SUMMARY:Rail North Committee Strategic Rail Director Consultation Call | 15 September 2021
DESCRIPTION:The Rail North Committee has been established to take over the role of Rail North Limited in relation to the management of TransPennine Express and Northern rail franchise matters. \nThis includes among other matters\, the promotion and improvement of rail services in the area of Transport for the North and the wider Rail North area\, the management of the performance of obligations\, and recommendations of budgets and policies. \nThe Rail North Committee consists of one Member and one Substitute Member appointed by each of the Regional Groups set out in paragraph 21.5 of our constitution. \nAll consultation calls for this committee are open to the public (including the press) except to the extent that they are excluded whether during the whole or part of the proceedings. \nThis consultation call on Wednesday\, September 15\, 2021\, will be live streamed via video conferencing. Members of the public can view proceedings here or via live web link: \n \nWatch the consultation call \nLocation: Virtual\nTime: 11.00am\nPlease note that whilst you will be able to watch public items\, you won’t be able to make comments or speak to members. A copy of the public proceedings will be published after the consultation call has taken place. \nIn order to fulfil our obligations on commercial confidentiality and data protection\, the public and press will be excluded for certain agenda items where confidential or ‘exempt’ information is discussed. \nYou will be able to download the agenda and papers for this consultation call five working days before the event date. \nAgenda Papers \nContact information\nSupport Officer: Gary Rich\nTransport for the North\, 2nd Floor\, 4 Piccadilly Place\, Manchester\, M1 3BN\nEmail: engagement@transportforthenorth.com
URL:https://www.transportforthenorth.com/calendar/rail-north-committee-15-september-2021/
LOCATION:Virtual event online
CATEGORIES:Rail North Committee
END:VEVENT
END:VCALENDAR